BEGIN:VCALENDAR
VERSION:2.0
PRODID:-//wp-events-plugin.com//7.2.3.1//EN
BEGIN:VEVENT
UID:70@holmestrand-hundeklubb.com
DTSTART;TZID=Europe/Oslo:20260617T180000
DTEND;TZID=Europe/Oslo:20260617T200000
DTSTAMP:20260401T161038Z
URL:https://holmestrand-hundeklubb.com/hhk/events/agility-inne-clone-2026-
 06-17/
SUMMARY:Agility
DESCRIPTION:Lurer du på noe så er det bare å ta kontakt:\n- Messenger\n-
  46968834\n- kaja.oien@hotmail.com\n\n\n\n\n\n\n[google_map_easy id="3"]
CATEGORIES:Agility
LOCATION:H.HK. Klubbarena\, Våleveien 224\, Holmestrand\, Vestfold\, 3080\
 , Norway
GEO:59.463418;10.336628
X-APPLE-STRUCTURED-LOCATION;VALUE=URI;X-ADDRESS=Våleveien 224\, Holmestran
 d\, Vestfold\, 3080\, Norway;X-APPLE-RADIUS=100;X-TITLE=H.HK. Klubbarena:g
 eo:59.463418,10.336628
END:VEVENT
BEGIN:VTIMEZONE
TZID:Europe/Oslo
X-LIC-LOCATION:Europe/Oslo
BEGIN:DAYLIGHT
DTSTART:20260329T030000
TZOFFSETFROM:+0100
TZOFFSETTO:+0200
TZNAME:CEST
END:DAYLIGHT
END:VTIMEZONE
END:VCALENDAR